BEGIN:VCALENDAR
VERSION:2.0
PRODID:Imitheme.com 
BEGIN:VEVENT
UID:20260422T025800307997767
DTSTAMP;TZID=UTC:2026-04-22 02:58:00
DTSTART;TZID=America/Los_Angeles:20270813T000000
DTEND;TZID=America/Los_Angeles:20270813T000000
SUMMARY:Kinderstunde mit Spiel und Spaß
LOCATION:Fleischhauerstr. 7\, 59555 Lippstadt
DESCRIPTION:Während der Bibelstunde gibt es ein Programm für Kinder.
URL:https://www2.christliche-gemeinde-lippstadt.de/eventer/kinderstunde-mit-spiel-und-spass/
END:VEVENT
END:VCALENDAR
