BEGIN:VCALENDAR
VERSION:2.0
PRODID:Imitheme.com 
BEGIN:VEVENT
UID:20260422T1240511076880518
DTSTAMP;TZID=UTC:2026-04-22 12:40:51
DTSTART;TZID=America/Los_Angeles:20270924T000000
DTEND;TZID=America/Los_Angeles:20270924T000000
SUMMARY:Jugend
LOCATION:Fleischhauerstr. 7\, 59555 Lippstadt
DESCRIPTION:Die Jugend ist für Jugendliche ab 15 Jahren.
URL:https://www2.christliche-gemeinde-lippstadt.de/eventer/jugend/
END:VEVENT
END:VCALENDAR
