BEGIN:VCALENDAR
VERSION:2.0
PRODID:Imitheme.com 
BEGIN:VEVENT
UID:20260423T070026392753279
DTSTAMP;TZID=UTC:2026-04-23 07:00:26
DTSTART;TZID=America/Los_Angeles:20280303T000000
DTEND;TZID=America/Los_Angeles:20280303T000000
SUMMARY:Bibel- und Gebetsstunde
LOCATION:Fleischhauerstr. 7\, 59555 Lippstadt
DESCRIPTION:Hier treffen wir uns zum Bibelstudium mit einer abschließenden Gebetszeit.
URL:https://www2.christliche-gemeinde-lippstadt.de/eventer/bibel-und-gebetsstunde/
END:VEVENT
END:VCALENDAR
