BEGIN:VCALENDAR
VERSION:2.0
PRODID:Imitheme.com 
BEGIN:VEVENT
UID:20260423T1129591473432071
DTSTAMP;TZID=UTC:2026-04-23 11:29:59
DTSTART;TZID=America/Los_Angeles:20290610T000000
DTEND;TZID=America/Los_Angeles:20290610T000000
SUMMARY:Gottesdienst
LOCATION:Fleischhauerstr. 7\, 59555 Lippstadt
DESCRIPTION:Wir feiern das Abendmahl, beten, hören eine Andacht und abschließend eine Predigt. Nach der Predigt gibt es noch Kaffee und etwas zu knabbern.
URL:https://www2.christliche-gemeinde-lippstadt.de/eventer/gottesdienst/
END:VEVENT
END:VCALENDAR
