BEGIN:VCALENDAR
VERSION:2.0
PRODID:Imitheme.com 
BEGIN:VEVENT
UID:20260424T021801657301473
DTSTAMP;TZID=UTC:2026-04-24 02:18:01
DTSTART;TZID=America/Los_Angeles:20290202T000000
DTEND;TZID=America/Los_Angeles:20290202T000000
SUMMARY:Bibel- und Gebetsstunde
LOCATION:Fleischhauerstr. 7\, 59555 Lippstadt
DESCRIPTION:Hier treffen wir uns zum Bibelstudium mit einer abschließenden Gebetszeit.
URL:https://www2.christliche-gemeinde-lippstadt.de/eventer/bibel-und-gebetsstunde/
END:VEVENT
END:VCALENDAR
