BEGIN:VCALENDAR
VERSION:2.0
PRODID:Imitheme.com 
BEGIN:VEVENT
UID:20260422T1213451817492357
DTSTAMP;TZID=UTC:2026-04-22 12:13:45
DTSTART;TZID=America/Los_Angeles:20291104T000000
DTEND;TZID=America/Los_Angeles:20291104T000000
SUMMARY:Jungschar
LOCATION:Fleischhauerstr. 7\, 59555 Lippstadt
DESCRIPTION:Für Kinder zwischen 10 und 14 Jahren.
URL:https://www2.christliche-gemeinde-lippstadt.de/eventer/jungschar/
END:VEVENT
END:VCALENDAR
