BEGIN:VCALENDAR
VERSION:2.0
PRODID:Imitheme.com 
BEGIN:VEVENT
UID:20260420T1822482023660457
DTSTAMP;TZID=UTC:2026-04-20 18:22:48
DTSTART;TZID=America/Los_Angeles:20300630T000000
DTEND;TZID=America/Los_Angeles:20300630T000000
SUMMARY:Jungschar
LOCATION:Fleischhauerstr. 7\, 59555 Lippstadt
DESCRIPTION:Für Kinder zwischen 10 und 14 Jahren.
URL:https://www2.christliche-gemeinde-lippstadt.de/eventer/jungschar/
END:VEVENT
END:VCALENDAR
