BEGIN:VCALENDAR
VERSION:2.0
PRODID:Imitheme.com 
BEGIN:VEVENT
UID:20260420T0835401666385738
DTSTAMP;TZID=UTC:2026-04-20 08:35:40
DTSTART;TZID=America/Los_Angeles:20300908T000000
DTEND;TZID=America/Los_Angeles:20300908T000000
SUMMARY:Jungschar
LOCATION:Fleischhauerstr. 7\, 59555 Lippstadt
DESCRIPTION:Für Kinder zwischen 10 und 14 Jahren.
URL:https://www2.christliche-gemeinde-lippstadt.de/eventer/jungschar/
END:VEVENT
END:VCALENDAR
