BEGIN:VCALENDAR
VERSION:2.0
PRODID:Imitheme.com 
BEGIN:VEVENT
UID:20260419T1742501742156626
DTSTAMP;TZID=UTC:2026-04-19 17:42:50
DTSTART;TZID=America/Los_Angeles:20300104T000000
DTEND;TZID=America/Los_Angeles:20300104T000000
SUMMARY:Bibelgrundkurs
LOCATION:Fleischhauerstr. 7\, 59555 Lippstadt
DESCRIPTION:Jedem erstem Freitag im Monat finden ein Bibelgrundkurs statt. Was ist die Bibel eigentlich, und worüber schreibt sie etwas. Warum ist sie für Christen so wichtig? Wer mehr über dieses besondere Buch wissen möchte, ist herzlich eingeladen.
URL:https://www2.christliche-gemeinde-lippstadt.de/eventer/bibelgrundkurs/
END:VEVENT
END:VCALENDAR
